BEGIN:VCALENDAR
VERSION:2.0
PRODID:-//Je suis en équilibre - ECPv6.15.20//NONSGML v1.0//EN
CALSCALE:GREGORIAN
METHOD:PUBLISH
X-ORIGINAL-URL:https://jesuisenequilibre.fr
X-WR-CALDESC:Évènements pour Je suis en équilibre
REFRESH-INTERVAL;VALUE=DURATION:PT1H
X-Robots-Tag:noindex
X-PUBLISHED-TTL:PT1H
BEGIN:VTIMEZONE
TZID:Europe/Paris
BEGIN:DAYLIGHT
TZOFFSETFROM:+0100
TZOFFSETTO:+0200
TZNAME:CEST
DTSTART:20250330T010000
END:DAYLIGHT
BEGIN:STANDARD
TZOFFSETFROM:+0200
TZOFFSETTO:+0100
TZNAME:CET
DTSTART:20251026T010000
END:STANDARD
BEGIN:DAYLIGHT
TZOFFSETFROM:+0100
TZOFFSETTO:+0200
TZNAME:CEST
DTSTART:20260329T010000
END:DAYLIGHT
BEGIN:STANDARD
TZOFFSETFROM:+0200
TZOFFSETTO:+0100
TZNAME:CET
DTSTART:20261025T010000
END:STANDARD
BEGIN:DAYLIGHT
TZOFFSETFROM:+0100
TZOFFSETTO:+0200
TZNAME:CEST
DTSTART:20270328T010000
END:DAYLIGHT
BEGIN:STANDARD
TZOFFSETFROM:+0200
TZOFFSETTO:+0100
TZNAME:CET
DTSTART:20271031T010000
END:STANDARD
END:VTIMEZONE
BEGIN:VEVENT
DTSTART;TZID=Europe/Paris:20260307T183000
DTEND;TZID=Europe/Paris:20260307T203000
DTSTAMP:20260423T103656
CREATED:20260204T134934Z
LAST-MODIFIED:20260219T160209Z
UID:20385-1772908200-1772915400@jesuisenequilibre.fr
SUMMARY:AFTER WORK : On vous emmène en voyage avec Havas Voyages
DESCRIPTION:EN EQUILIBRE en partenariat avec HAVAS VOYAGE vous propose une soirée d’exception ! \nDurant la soirée\, nous vous ferons voyager à travers 4 destinations de rève présentées par Havas Voyages.  \nPour chacune\, une offre exclusive et une proposition de voyage unique vous serons dévoilés. A chaque escale\, En Equilibre proposera une expérience bien être en lien avec la destination. \nUn afterwork placé sous le signe de l’évasion et du bien être 💫 \nAu programme : \n🌸 Des offres uniques \n🌸Immersion autour de 4 destinations surprises \n🌸 Des dégustations et une ambiance festive \n🌸Présentation & Animation \n🌸 Expériences bien être
URL:https://jesuisenequilibre.fr/evenement/after-work-on-vous-emmene-en-voyage/
LOCATION:Maison en Equilibre\, 29\, boulevard de la Fontaine\, Marseille\, 13009\, France
CATEGORIES:Afterwork
ATTACH;FMTTYPE=image/jpeg:https://jesuisenequilibre.fr/wp-content/uploads/2026/02/AFTERWORK-POST.jpg
END:VEVENT
END:VCALENDAR